BEGIN:VCALENDAR
VERSION:2.0
PRODID:-//St Andrews Primary School - ECPv6.15.13.1//NONSGML v1.0//EN
CALSCALE:GREGORIAN
METHOD:PUBLISH
X-WR-CALNAME:St Andrews Primary School
X-ORIGINAL-URL:https://st-andrews-primary.com
X-WR-CALDESC:Events for St Andrews Primary School
REFRESH-INTERVAL;VALUE=DURATION:PT1H
X-Robots-Tag:noindex
X-PUBLISHED-TTL:PT1H
BEGIN:VTIMEZONE
TZID:UTC
BEGIN:STANDARD
TZOFFSETFROM:+0000
TZOFFSETTO:+0000
TZNAME:UTC
DTSTART:20250101T000000
END:STANDARD
END:VTIMEZONE
BEGIN:VEVENT
DTSTART;VALUE=DATE:20260420
DTEND;VALUE=DATE:20260421
DTSTAMP:20260420T014559
CREATED:20260317T140056Z
LAST-MODIFIED:20260317T140056Z
UID:2530-1776643200-1776729599@st-andrews-primary.com
SUMMARY:Start of Term 4
DESCRIPTION:
URL:https://st-andrews-primary.com/event/start-of-term-4/
END:VEVENT
END:VCALENDAR